BEGIN:VCALENDAR
VERSION:2.0
PRODID:-//eventon.com NONSGML v1.0//EN
CALSCALE:GREGORIAN
METHOD:PUBLISH
BEGIN:VEVENT
UID:69e8cbc5b419c
DTSTAMP:20260422T132317Z
DTSTART:20210714T160000Z
DTEND:20210715T180000Z
LOCATION:
SUMMARY:GRADUACIONES 2021 14 y 15 de julio
DESCRIPTION:LUGAR: Palacio de Congresos Conde AnsÃºrez HORARIO: ambos dÃ­as
  los actos iniciarÃ¡n a las 18:00 AFORO LIMITADO A LOS ESTUDIANTES\,  RETRA
 NSMISIÃ“N EN DIRECTO POR YOUTUBE. &nbsp; El dÃ­aÂ 14 DE JULIOÂ se celebrarÃ
 ¡n las graduaciones de: Periodismo\,  FilosofÃ­a\,  Historia y Ciencias de 
 la MÃºsica e Historia del Arte. La entrada de los[..]\nhttps://fyl-de.uva.e
 s/events/graduaciones-2021-14-y-15-de-julio/
URL:https://fyl-de.uva.es/events/graduaciones-2021-14-y-15-de-julio/
END:VEVENT
END:VCALENDAR